BEGIN:VCALENDAR
VERSION:2.0
PRODID:spatie/icalendar-generator
DESCRIPTION:Events from J(O)CA
X-WR-CALDESC:Events from J(O)CA
REFRESH-INTERVAL;VALUE=DURATION:PT1440M
X-PUBLISHED-TTL:PT1440M
BEGIN:VTIMEZONE
TZID:Etc/GMT+0
BEGIN:STANDARD
DTSTART:20230406T000000Z
TZOFFSETFROM:+0000
TZOFFSETTO:+0000
END:STANDARD
END:VTIMEZONE
BEGIN:VTIMEZONE
TZID:UTC
BEGIN:STANDARD
DTSTART:20250727T070243Z
TZOFFSETFROM:+0000
TZOFFSETTO:+0000
END:STANDARD
END:VTIMEZONE
BEGIN:VEVENT
UID:6-6
DTSTAMP:20260423T070243Z
SUMMARY:New Year's Day
LOCATION:
ORGANIZER;CN=jocawordpress:MAILTO:jamaicanottawaassn@yahoo.ca
DTSTART;TZID=Etc/GMT+0;VALUE=DATE:20240101
DTEND;TZID=Etc/GMT+0;VALUE=DATE:20240102
X-ALT-DESC;FMTTYPE=TEXT/HTML:
CATEGORIES:Holiday
URL;VALUE=URI:https://jocainc.com/mc-events/new-years-day/?mc_id=6
END:VEVENT
END:VCALENDAR