BEGIN:VCALENDAR
VERSION:2.0
PRODID:spatie/icalendar-generator
DESCRIPTION:Events from J(O)CA
X-WR-CALDESC:Events from J(O)CA
REFRESH-INTERVAL;VALUE=DURATION:PT1440M
X-PUBLISHED-TTL:PT1440M
BEGIN:VTIMEZONE
TZID:Etc/GMT+0
BEGIN:STANDARD
DTSTART:20230404T160000Z
TZOFFSETFROM:+0000
TZOFFSETTO:+0000
END:STANDARD
END:VTIMEZONE
BEGIN:VTIMEZONE
TZID:UTC
BEGIN:STANDARD
DTSTART:20250727T083048Z
TZOFFSETFROM:+0000
TZOFFSETTO:+0000
END:STANDARD
END:VTIMEZONE
BEGIN:VEVENT
UID:4-4
DTSTAMP:20260423T083048Z
SUMMARY:Ottawa Kwanza 2023
LOCATION:Mosaic Convention Centre 3750 Bowesville Road  Ottawa ON
ORGANIZER;CN=jocawordpress:MAILTO:jamaicanottawaassn@yahoo.ca
DTSTART;TZID=Etc/GMT+0:20231230T160000
DTEND;TZID=Etc/GMT+0:20231230T230000
X-ALT-DESC;FMTTYPE=TEXT/HTML:Ottawa Kwanza 2023 hosted by Jaku Konbit
CATEGORIES:Upcoming Events
URL;VALUE=URI:https://jocainc.com/mc-events/ottawa-kwanza-2023/?mc_id=4
END:VEVENT
END:VCALENDAR