BEGIN:VCALENDAR
VERSION:2.0
PRODID:spatie/icalendar-generator
DESCRIPTION:Events from J(O)CA
X-WR-CALDESC:Events from J(O)CA
REFRESH-INTERVAL;VALUE=DURATION:PT1440M
X-PUBLISHED-TTL:PT1440M
BEGIN:VTIMEZONE
TZID:Etc/GMT+0
BEGIN:STANDARD
DTSTART:20230321T170000Z
TZOFFSETFROM:+0000
TZOFFSETTO:+0000
END:STANDARD
END:VTIMEZONE
BEGIN:VTIMEZONE
TZID:UTC
BEGIN:STANDARD
DTSTART:20250729T130025Z
TZOFFSETFROM:+0000
TZOFFSETTO:+0000
END:STANDARD
END:VTIMEZONE
BEGIN:VEVENT
UID:2-2
DTSTAMP:20260425T130025Z
SUMMARY:A Christmas Affair
LOCATION:Mosaic Convention Centre 3750 Bowesville Road  Ottawa ON
ORGANIZER;CN=jocawordpress:MAILTO:jamaicanottawaassn@yahoo.ca
DTSTART;TZID=Etc/GMT+0:20231216T170000
DTEND;TZID=Etc/GMT+0:20231216T180000
X-ALT-DESC;FMTTYPE=TEXT/HTML:Celebrating our Community Full course meal Coc
 ktails Live Music &amp;amp\; Performances Giveaways Music by: Dj Wally B\, Dj 
 Wattowan &amp;amp\; Ringo Media Tickets: $50 ($30 for Children 12 yrs &amp;amp\; u
 nder)
CATEGORIES:Upcoming Events
URL;VALUE=URI:https://jocainc.com/mc-events/a-christmas-affair/?mc_id=2
END:VEVENT
END:VCALENDAR