BEGIN:VCALENDAR
VERSION:2.0
PRODID:spatie/icalendar-generator
DESCRIPTION:Events from J(O)CA
X-WR-CALDESC:Events from J(O)CA
REFRESH-INTERVAL;VALUE=DURATION:PT1440M
X-PUBLISHED-TTL:PT1440M
BEGIN:VTIMEZONE
TZID:Etc/GMT+0
BEGIN:STANDARD
DTSTART:20231031T120000Z
TZOFFSETFROM:+0000
TZOFFSETTO:+0000
END:STANDARD
END:VTIMEZONE
BEGIN:VTIMEZONE
TZID:UTC
BEGIN:STANDARD
DTSTART:20250727T041735Z
TZOFFSETFROM:+0000
TZOFFSETTO:+0000
END:STANDARD
END:VTIMEZONE
BEGIN:VEVENT
UID:7-7
DTSTAMP:20260423T041735Z
SUMMARY:Jamaica Day in Montréal
LOCATION:Martin Luther King Park 3220 Av. Appleton\,  Montreal QC H3S 2T3
ORGANIZER;CN=jocawordpress:MAILTO:jamaicanottawaassn@yahoo.ca
DTSTART;TZID=Etc/GMT+0:20240727T120000
DTEND;TZID=Etc/GMT+0:20240727T200000
X-ALT-DESC;FMTTYPE=TEXT/HTML:
CATEGORIES:General
URL;VALUE=URI:https://jocainc.com/mc-events/jamaica-day-in-montreal/?mc_id=
 7
END:VEVENT
END:VCALENDAR