BEGIN:VCALENDAR
VERSION:2.0
PRODID:spatie/icalendar-generator
DESCRIPTION:Events from J(O)CA
X-WR-CALDESC:Events from J(O)CA
REFRESH-INTERVAL;VALUE=DURATION:PT1440M
X-PUBLISHED-TTL:PT1440M
BEGIN:VTIMEZONE
TZID:Etc/GMT+0
BEGIN:STANDARD
DTSTART:20230314T180000Z
TZOFFSETFROM:+0000
TZOFFSETTO:+0000
END:STANDARD
END:VTIMEZONE
BEGIN:VTIMEZONE
TZID:UTC
BEGIN:STANDARD
DTSTART:20250729T130107Z
TZOFFSETFROM:+0000
TZOFFSETTO:+0000
END:STANDARD
END:VTIMEZONE
BEGIN:VEVENT
UID:3-3
DTSTAMP:20260425T130107Z
SUMMARY:Victory Church of God Annual Christmas Dinner
LOCATION:Victory Church of God 1485 Lagan Way  Ottawa On
ORGANIZER;CN=jocawordpress:MAILTO:jamaicanottawaassn@yahoo.ca
DTSTART;TZID=Etc/GMT+0:20231209T180000
DTEND;TZID=Etc/GMT+0:20231209T190000
X-ALT-DESC;FMTTYPE=TEXT/HTML:Victory Church of God Annual Christmas Dinner 
 Tickets Adults (18+): $50 Child (9-17): $25 Featuring Live Entertainment F
 or tickets and more info contact\, (613)-304-5442 | (613)-252-0562 | (613)
 -292-2158
CATEGORIES:Upcoming Events
URL;VALUE=URI:https://jocainc.com/mc-events/victory-church-of-god-annual-ch
 ristmas-dinner/?mc_id=3
END:VEVENT
END:VCALENDAR